BEGIN:VCALENDAR
VERSION:2.0
PRODID:-//ChamberMaster//Event Calendar 2.0//EN
METHOD:PUBLISH
X-PUBLISHED-TTL:P3D
REFRESH-INTERVAL:P3D
CALSCALE:GREGORIAN
BEGIN:VEVENT
DTSTART:20210727T170000Z
DTEND:20210727T180000Z
X-MICROSOFT-CDO-ALLDAYEVENT:FALSE
SUMMARY:10 Warning Signs of Alzheimer's & A Pastor's Roundtable with insights for Faith Communities
DESCRIPTION:Alzheimer's and other dementias cause memory\, thinking and behavior problems that interfere with daily living. Join us to learn how to recognize common signs of the disease\; how to approach someone about memory concerns\; the importance of early detection and benefits of a diagnosis\; possible tests and assessments for the diagnostic process\, and Alzheimer's Association resources. In addition\, join us for a roundtable with two pastors\; Paul Boatman who lost his wife to Alzheimer's Disease and Tom Hillertz who is currently living with Younger Onset Alzheimer's Disease. Learn how communities of Faith can recognize the warning signs in their unique contexts and how they can help those worried about memory loss. Registration Please note this ink is case-sensitive. https://bit.ly/3iKhwZl 24/7 Helpline 800.272.3900 Visit alz.org/CRF to explore additional education programs in your area
X-ALT-DESC;FMTTYPE=text/html:Alzheimer&#39\;s and other dementias cause memory\, thinking and behavior problems that interfere with daily living. Join us to learn how to recognize common signs of the disease\; how to approach someone about memory concerns\; the importance of early detection and benefits of a diagnosis\; possible tests and assessments for the diagnostic process\, and Alzheimer&#39\;s Association resources. In addition\, join us for a roundtable with two pastors\; Paul Boatman who lost his wife to Alzheimer&rsquo\;s Disease and Tom Hillertz who is currently living with Younger Onset Alzheimer&rsquo\;s Disease. Learn how communities of Faith can recognize the warning signs in their unique contexts and how they can help those worried about memory loss. Registration Please note this ink is case-sensitive. https://bit.ly/3iKhwZl 24/7 Helpline 800.272.3900 Visit alz.org/CRF to explore additional education programs in your area
LOCATION:Join via Zoom or by Phone
UID:e.1688.7601
SEQUENCE:3
DTSTAMP:20260422T115710Z
URL:https://cantondirectory.csmdemo.com/events/details/10-warning-signs-of-alzheimer-s-a-pastor-s-roundtable-with-insights-for-faith-communities-7601
END:VEVENT

END:VCALENDAR
