BEGIN:VCALENDAR
VERSION:2.0
PRODID:-//ChamberMaster//Event Calendar 2.0//EN
METHOD:PUBLISH
X-PUBLISHED-TTL:P3D
REFRESH-INTERVAL:P3D
CALSCALE:GREGORIAN
BEGIN:VEVENT
DTSTART:20211010T173000Z
DTEND:20211010T183000Z
X-MICROSOFT-CDO-ALLDAYEVENT:FALSE
SUMMARY:10 Warning Signs of Alzheimer’s Disease PLUS Tips For Faith Communities
DESCRIPTION:Faith-Based Organizations play a vital role in communities across Illinois. Many people first turn to their house of worship for help and support when faced with health-related issues\, including the stress of caring for someone living with Alzheimer's disease or another form of dementia. Don't miss these tips to help your congregation be prepared to serve! Register by phone 800.272.3900 or online bit.ly/3sqpXeO
X-ALT-DESC;FMTTYPE=text/html:Faith-Based Organizations play a vital role in communities across Illinois. Many people first turn to their house of worship for help and support when faced with health-related issues\, including the stress of caring for someone living with Alzheimer&rsquo\;s disease or another form of dementia. Don&rsquo\;t miss these tips to help your congregation be prepared to serve! Register by phone 800.272.3900 or online bit.ly/3sqpXeO
LOCATION:Join us via phone or online
UID:e.1688.7664
SEQUENCE:3
DTSTAMP:20260422T074753Z
URL:https://cantondirectory.csmdemo.com/events/details/10-warning-signs-of-alzheimer-s-disease-plus-tips-for-faith-communities-7664
END:VEVENT

END:VCALENDAR
