BEGIN:VCALENDAR
VERSION:2.0
PRODID:-//ChamberMaster//Event Calendar 2.0//EN
METHOD:PUBLISH
X-PUBLISHED-TTL:P3D
REFRESH-INTERVAL:P3D
CALSCALE:GREGORIAN
BEGIN:VEVENT
DTSTART:20260425T170000Z
DTEND:20260425T190000Z
X-MICROSOFT-CDO-ALLDAYEVENT:FALSE
SUMMARY:1956 CHS Class Lunch
DESCRIPTION:The Senior High School Class of 1956 will meet for lunch at noon on Saturday\, April 25th\, at Country Line Bar and Grill\, 725 W. Locust Street in Canton.
X-ALT-DESC;FMTTYPE=text/html:<!--StartFragment--><!--StartFragment--><span data-olk-copy-source="MessageBody">The Senior High School Class of 1956 will meet for lunch at noon on Saturday\, April 25th\, at Country Line Bar and Grill\, 725 W. Locust Street in Canton.&nbsp\;</span><!--EndFragment--><!--EndFragment-->
LOCATION:
UID:e.1688.8619
SEQUENCE:3
DTSTAMP:20260423T224523Z
URL:https://cantondirectory.csmdemo.com/events/details/1956-chs-class-lunch-8619
END:VEVENT

END:VCALENDAR
