BEGIN:VCALENDAR
VERSION:2.0
PRODID:-//ChamberMaster//Event Calendar 2.0//EN
METHOD:PUBLISH
X-PUBLISHED-TTL:P3D
REFRESH-INTERVAL:P3D
CALSCALE:GREGORIAN
BEGIN:VEVENT
DTSTART:20210709T210000Z
DTEND:20210710T060000Z
X-MICROSOFT-CDO-ALLDAYEVENT:FALSE
SUMMARY:27th Red Dog Hospitality Party
DESCRIPTION:27th Annual Red Dog Hospitality Party with Clayton Shay
X-ALT-DESC;FMTTYPE=text/html:27th Annual Red Dog Hospitality Party with Clayton Shay
LOCATION:Billy's Tap
UID:e.1688.7595
SEQUENCE:3
DTSTAMP:20260422T114614Z
URL:https://cantondirectory.csmdemo.com/events/details/27th-red-dog-hospitality-party-7595
END:VEVENT

END:VCALENDAR
