BEGIN:VCALENDAR
VERSION:2.0
PRODID:-//ChamberMaster//Event Calendar 2.0//EN
METHOD:PUBLISH
X-PUBLISHED-TTL:P3D
REFRESH-INTERVAL:P3D
CALSCALE:GREGORIAN
BEGIN:VEVENT
DTSTART:20201118T190000Z
DTEND:20201118T200000Z
X-MICROSOFT-CDO-ALLDAYEVENT:FALSE
SUMMARY:Alzheimer's Association Support Group
DESCRIPTION:Join by Phone or Online Register Online or by Calling 800.272.3900 Registration Link https://www.communityresourcefinder.org/ResourceView/Index?id=1955571&profileDefinitionId=91
X-ALT-DESC;FMTTYPE=text/html:Join by Phone or Online Register Online or by Calling 800.272.3900 Registration Link https://www.communityresourcefinder.org/ResourceView/Index?id=1955571&amp\;profileDefinitionId=91
LOCATION:webinar or phone
UID:e.1688.7502
SEQUENCE:3
DTSTAMP:20260424T022043Z
URL:https://cantondirectory.csmdemo.com/events/details/alzheimer-s-association-support-group-11-18-2020-7502
END:VEVENT

END:VCALENDAR
