BEGIN:VCALENDAR
VERSION:2.0
PRODID:-//ChamberMaster//Event Calendar 2.0//EN
METHOD:PUBLISH
X-PUBLISHED-TTL:P3D
REFRESH-INTERVAL:P3D
CALSCALE:GREGORIAN
BEGIN:VEVENT
DTSTART;VALUE=DATE:20210605
DTEND;VALUE=DATE:20210607
TRANSP:TRANSPARENT
X-MICROSOFT-CDO-ALLDAYEVENT:TRUE
SUMMARY:Art on Main Fine Arts Festival - Presented by Canton Main Street
DESCRIPTION:Fine art exhibit and sale\, with local foods and wine for sale\, music and children's art activities.
X-ALT-DESC;FMTTYPE=text/html:<br />\nFine art exhibit and sale\, with local foods and wine for sale\, music and children&#39\;s art activities.
LOCATION:Jones Park\, Main and Chestnut\, Canton\, Illinois 61520
UID:e.1688.2794
SEQUENCE:3
DTSTAMP:20260422T130758Z
URL:https://cantondirectory.csmdemo.com/events/details/art-on-main-fine-arts-festival-presented-by-canton-main-street-2794
END:VEVENT

END:VCALENDAR
