BEGIN:VCALENDAR
VERSION:2.0
PRODID:-//ChamberMaster//Event Calendar 2.0//EN
METHOD:PUBLISH
X-PUBLISHED-TTL:P3D
REFRESH-INTERVAL:P3D
CALSCALE:GREGORIAN
BEGIN:VEVENT
DTSTART;VALUE=DATE:20230222
DTEND;VALUE=DATE:20230223
TRANSP:TRANSPARENT
X-MICROSOFT-CDO-ALLDAYEVENT:TRUE
SUMMARY:Ash Wednesday Service
DESCRIPTION:Ashes will be given at South Park United Methodist Church\, 600 S. 1st Avenue in Canton\, from 9 am until noon and at Shields Chapel United Methodist Church\, 19044 E. Shields Chapel Lane\, west of Canton\, from 1 pm until 4 pm on Ash Wednesday\, February 22\, 2023.  Ash Wednesday Services will be at South Park United Methodist Church at 7 pm on Ash Wednesday.
X-ALT-DESC;FMTTYPE=text/html:<b style="color: rgb(66\, 66\, 66)\; font-family: &quot\;Helvetica Neue&quot\;\, Helvetica\, Arial\, sans-serif\; font-size: 16px\;">Ashes will be given at South Park United Methodist Church\, 600 S. 1st Avenue in Canton\, from 9 am until noon and at Shields Chapel United Methodist Church\, 19044 E. Shields Chapel Lane\, west of Canton\, from 1 pm until 4 pm on Ash Wednesday\, February 22\, 2023.<span style="border: 0px\; font: inherit\; margin: 0px\; padding: 0px\; vertical-align: baseline\; color: inherit\;">&nbsp\;&nbsp\;</span>Ash Wednesday Services will be at South Park United Methodist Church at 7 pm on Ash Wednesday.</b>
LOCATION:
UID:e.1688.7889
SEQUENCE:3
DTSTAMP:20260421T053657Z
URL:https://cantondirectory.csmdemo.com/events/details/ash-wednesday-service-7889
END:VEVENT

END:VCALENDAR
