BEGIN:VCALENDAR
VERSION:2.0
PRODID:-//ChamberMaster//Event Calendar 2.0//EN
METHOD:PUBLISH
X-PUBLISHED-TTL:P3D
REFRESH-INTERVAL:P3D
CALSCALE:GREGORIAN
BEGIN:VEVENT
DTSTART:20221021T140000Z
DTEND:20221021T150000Z
X-MICROSOFT-CDO-ALLDAYEVENT:FALSE
SUMMARY:Breathing Tree Yoga in the Park
DESCRIPTION:Yoga in the Park
X-ALT-DESC;FMTTYPE=text/html:Yoga in the Park
LOCATION:Big Creek Park
UID:e.1688.7820
SEQUENCE:3
DTSTAMP:20260421T123306Z
URL:https://cantondirectory.csmdemo.com/events/details/breathing-tree-yoga-in-the-park-7820
END:VEVENT

END:VCALENDAR
