BEGIN:VCALENDAR
VERSION:2.0
PRODID:-//ChamberMaster//Event Calendar 2.0//EN
METHOD:PUBLISH
X-PUBLISHED-TTL:P3D
REFRESH-INTERVAL:P3D
CALSCALE:GREGORIAN
BEGIN:VEVENT
DTSTART:20210715T220000Z
DTEND:20210716T000000Z
X-MICROSOFT-CDO-ALLDAYEVENT:FALSE
SUMMARY:Business After Hours
DESCRIPTION:Business After Hours
X-ALT-DESC;FMTTYPE=text/html:Business After Hours&nbsp\;
LOCATION:Lakeview Event Center & Banquet Hall 1920 N. Main Street ~ Canton
UID:e.1688.2942
SEQUENCE:3
DTSTAMP:20260422T114456Z
URL:https://cantondirectory.csmdemo.com/events/details/business-after-hours-07-15-2021-2942
END:VEVENT

END:VCALENDAR
