BEGIN:VCALENDAR
VERSION:2.0
PRODID:-//ChamberMaster//Event Calendar 2.0//EN
METHOD:PUBLISH
X-PUBLISHED-TTL:P3D
REFRESH-INTERVAL:P3D
CALSCALE:GREGORIAN
BEGIN:VEVENT
DTSTART:20210819T220000Z
DTEND:20210820T000000Z
X-MICROSOFT-CDO-ALLDAYEVENT:FALSE
SUMMARY:Business After Hours
DESCRIPTION:Business After Hours hosted by The Loft Rehabilitation & Nursing of Canton
X-ALT-DESC;FMTTYPE=text/html:Business After Hours hosted by The Loft Rehabilitation &amp\; Nursing of Canton
LOCATION:The Bistro 101 in Canton
UID:e.1688.2943
SEQUENCE:3
DTSTAMP:20260422T104132Z
URL:https://cantondirectory.csmdemo.com/events/details/business-after-hours-08-19-2021-2943
END:VEVENT

END:VCALENDAR
