BEGIN:VCALENDAR
VERSION:2.0
PRODID:-//ChamberMaster//Event Calendar 2.0//EN
METHOD:PUBLISH
X-PUBLISHED-TTL:P3D
REFRESH-INTERVAL:P3D
CALSCALE:GREGORIAN
BEGIN:VEVENT
DTSTART:20210916T220000Z
DTEND:20210917T000000Z
X-MICROSOFT-CDO-ALLDAYEVENT:FALSE
SUMMARY:Business After Hours
DESCRIPTION:Business After Hours hosted by Kiwanis Club of Canton
X-ALT-DESC;FMTTYPE=text/html:Business After Hours hosted by Kiwanis Club of Canton
LOCATION:More information to come
UID:e.1688.2944
SEQUENCE:3
DTSTAMP:20260422T090522Z
URL:https://cantondirectory.csmdemo.com/events/details/business-after-hours-09-16-2021-2944
END:VEVENT

END:VCALENDAR
