BEGIN:VCALENDAR
VERSION:2.0
PRODID:-//ChamberMaster//Event Calendar 2.0//EN
METHOD:PUBLISH
X-PUBLISHED-TTL:P3D
REFRESH-INTERVAL:P3D
CALSCALE:GREGORIAN
BEGIN:VEVENT
DTSTART:20240919T220000Z
DTEND:20240920T000000Z
X-MICROSOFT-CDO-ALLDAYEVENT:FALSE
SUMMARY:Business After Hours
DESCRIPTION:Business After Hours
X-ALT-DESC;FMTTYPE=text/html:Business After Hours&nbsp\;
LOCATION:More information to come
UID:e.1688.2980
SEQUENCE:3
DTSTAMP:20260419T161242Z
URL:https://cantondirectory.csmdemo.com/events/details/business-after-hours-09-19-2024-2980
END:VEVENT

END:VCALENDAR
