BEGIN:VCALENDAR
VERSION:2.0
PRODID:-//ChamberMaster//Event Calendar 2.0//EN
METHOD:PUBLISH
X-PUBLISHED-TTL:P3D
REFRESH-INTERVAL:P3D
CALSCALE:GREGORIAN
BEGIN:VEVENT
DTSTART:20220419T223000Z
DTEND:20220420T000000Z
X-MICROSOFT-CDO-ALLDAYEVENT:FALSE
SUMMARY:CACYP Meeting
DESCRIPTION:Canton Area Chamber Young Professionals Meeting
X-ALT-DESC;FMTTYPE=text/html:Canton Area Chamber Young Professionals Meeting
LOCATION:TBA
UID:e.1688.7715
SEQUENCE:3
DTSTAMP:20260421T214411Z
URL:https://cantondirectory.csmdemo.com/events/details/cacyp-meeting-7715
END:VEVENT

END:VCALENDAR
