BEGIN:VCALENDAR
VERSION:2.0
PRODID:-//ChamberMaster//Event Calendar 2.0//EN
METHOD:PUBLISH
X-PUBLISHED-TTL:P3D
REFRESH-INTERVAL:P3D
CALSCALE:GREGORIAN
BEGIN:VEVENT
DTSTART:20210218T230000Z
DTEND:20210219T010000Z
X-MICROSOFT-CDO-ALLDAYEVENT:FALSE
SUMMARY:CANCELLED - Business After Hours
DESCRIPTION:Business After Hours
X-ALT-DESC;FMTTYPE=text/html:Business After Hours&nbsp\;
LOCATION:More information to come
UID:e.1688.2937
SEQUENCE:3
DTSTAMP:20260424T075849Z
URL:https://cantondirectory.csmdemo.com/events/details/cancelled-business-after-hours-02-18-2021-2937
END:VEVENT

END:VCALENDAR
