BEGIN:VCALENDAR
VERSION:2.0
PRODID:-//ChamberMaster//Event Calendar 2.0//EN
METHOD:PUBLISH
X-PUBLISHED-TTL:P3D
REFRESH-INTERVAL:P3D
CALSCALE:GREGORIAN
BEGIN:VEVENT
DTSTART:20200319T150000Z
DTEND:20200319T170000Z
X-MICROSOFT-CDO-ALLDAYEVENT:FALSE
SUMMARY:CANCELLED - Peoria Score Presents Fair Labor Standard Acts Workshop
DESCRIPTION:Russell Hastings from the US Dept. of Labor in Springfield will provide information on the Fair Labor Standards Act (FLSA).  This is the primary federal law that small businesses should be aware of\, as it deals with minimum wage\, overtime\, record keeping\, and child labor standards.\n\nRussell will have Handy Reference Guides for the FLSA to hand out to anyone that wants a copy.\n\nThis workshop is FREE\, but registration is required.\n\nCall Peoria SCORE at 309-676-0755 or register online\n\n https://peoria.score.org/content/take-workshop-286\n\nSCORE Peoria is funded [in part] through a Cooperative Agreement with the U.S. Small Business Administration.
X-ALT-DESC;FMTTYPE=text/html:<p style="box-sizing: border-box\; margin-top: 0px\; margin-bottom: 1.75em\; widows: 3\; orphans: 3\; display: inline-block\; color: rgb(20\, 20\, 20)\; font-family: Montserrat\, sans-serif\; font-size: 16px\; background-color: rgb(247\, 247\, 247)\; margin-left: 80px\;">Russell Hastings from the US Dept. of Labor in Springfield will provide information on the Fair Labor Standards Act (FLSA).&nbsp\; This is the primary federal law that small businesses should be aware of\, as it deals with minimum wage\, overtime\, record keeping\, and child labor standards.<br style="box-sizing: border-box\;" />\nRussell will have Handy Reference Guides for the FLSA to hand out to anyone that wants a copy.</p>\n\n<h4 style="box-sizing: border-box\; font-family: Montserrat\, sans-serif\; margin-top: 0px\; color: rgb(77\, 126\, 38)\; font-size: 1.4375rem\; line-height: 1.3\; font-weight: 400\; margin-bottom: 0.30435em\; background-color: rgb(247\, 247\, 247)\; margin-left: 80px\; text-align: center\;">This workshop is FREE\, but registration is required.<br style="box-sizing: border-box\;" />\nCall Peoria SCORE at 309-676-0755 or register online<br />\n&nbsp\;<a href="https://peoria.score.org/content/take-workshop-286">https://peoria.score.org/content/take-workshop-286</a></h4>\n\n<p style="box-sizing: border-box\; margin-top: 0px\; margin-bottom: 1.75em\; widows: 3\; orphans: 3\; display: inline-block\; color: rgb(20\, 20\, 20)\; font-family: Montserrat\, sans-serif\; font-size: 16px\; background-color: rgb(247\, 247\, 247)\; margin-left: 80px\; text-align: center\;"><em style="box-sizing: border-box\;">SCORE Peoria is funded [in part] through a Cooperative Agreement with the U.S. Small Business Administration.</em></p>\n
LOCATION:Peoria Area Chamber of Commerce Conference Room 403 N. E. Jefferson St. Peoria\, IL 61603
UID:e.1688.7187
SEQUENCE:3
DTSTAMP:20260424T233956Z
URL:https://cantondirectory.csmdemo.com/events/details/cancelled-peoria-score-presents-fair-labor-standard-acts-workshop-7187
END:VEVENT

END:VCALENDAR
