BEGIN:VCALENDAR
VERSION:2.0
PRODID:-//ChamberMaster//Event Calendar 2.0//EN
METHOD:PUBLISH
X-PUBLISHED-TTL:P3D
REFRESH-INTERVAL:P3D
CALSCALE:GREGORIAN
BEGIN:VEVENT
DTSTART:20210705T010000Z
DTEND:20210705T030000Z
X-MICROSOFT-CDO-ALLDAYEVENT:FALSE
SUMMARY:Canton Fireworks
DESCRIPTION:Canton 4th of July Fireworks
X-ALT-DESC;FMTTYPE=text/html:Canton 4th of July Fireworks
LOCATION:Canton High School's Memorial Stadium
UID:e.1688.7594
SEQUENCE:3
DTSTAMP:20260422T101810Z
URL:https://cantondirectory.csmdemo.com/events/details/canton-fireworks-7594
END:VEVENT

END:VCALENDAR
