BEGIN:VCALENDAR
VERSION:2.0
PRODID:-//ChamberMaster//Event Calendar 2.0//EN
METHOD:PUBLISH
X-PUBLISHED-TTL:P3D
REFRESH-INTERVAL:P3D
CALSCALE:GREGORIAN
BEGIN:VEVENT
DTSTART;VALUE=DATE:20230913
DTEND;VALUE=DATE:20230917
TRANSP:TRANSPARENT
X-MICROSOFT-CDO-ALLDAYEVENT:TRUE
SUMMARY:Canton Friendship Festival
DESCRIPTION:Canton Friendship Festival September 13 through the 16\n\nParade on Saturday\, September 16 at 10:00 am
X-ALT-DESC;FMTTYPE=text/html:Canton Friendship Festival September 13 through the 16<br />\nParade on Saturday\, September 16 at 10:00 am&nbsp\;<br />\n&nbsp\;
LOCATION:Friendship Festival Grounds IL Route 9 & IL Hwy 78
UID:e.1688.7951
SEQUENCE:3
DTSTAMP:20260420T203118Z
URL:https://cantondirectory.csmdemo.com/events/details/canton-friendship-festival-7951
END:VEVENT

END:VCALENDAR
