BEGIN:VCALENDAR
VERSION:2.0
PRODID:-//ChamberMaster//Event Calendar 2.0//EN
METHOD:PUBLISH
X-PUBLISHED-TTL:P3D
REFRESH-INTERVAL:P3D
CALSCALE:GREGORIAN
BEGIN:VEVENT
DTSTART:20220918T000000Z
DTEND:20220918T030000Z
X-MICROSOFT-CDO-ALLDAYEVENT:FALSE
SUMMARY:Canton High School Homecoming Dance
DESCRIPTION:Canton High School Homecoming Dance
X-ALT-DESC;FMTTYPE=text/html:Canton High School Homecoming Dance
LOCATION:CHS South Gym
UID:e.1688.7782
SEQUENCE:3
DTSTAMP:20260421T152625Z
URL:https://cantondirectory.csmdemo.com/events/details/canton-high-school-homecoming-dance-7782
END:VEVENT

END:VCALENDAR
