BEGIN:VCALENDAR
VERSION:2.0
PRODID:-//ChamberMaster//Event Calendar 2.0//EN
METHOD:PUBLISH
X-PUBLISHED-TTL:P3D
REFRESH-INTERVAL:P3D
CALSCALE:GREGORIAN
BEGIN:VEVENT
DTSTART:20220730T170000Z
DTEND:20220730T190000Z
X-MICROSOFT-CDO-ALLDAYEVENT:FALSE
SUMMARY:Canton Senior High Class of 1956 Luncheon
DESCRIPTION:Canton Senior High Class of 1956 Reunion Luncheon
X-ALT-DESC;FMTTYPE=text/html:Canton Senior High Class of 1956 Reunion Luncheon
LOCATION:Billy's Tap 172 E. Elm St. Canton\, IL Questions\, call Elaine Putrich 309-789-5313
UID:e.1688.7793
SEQUENCE:3
DTSTAMP:20260421T165502Z
URL:https://cantondirectory.csmdemo.com/events/details/canton-senior-high-class-of-1956-luncheon-7793
END:VEVENT

END:VCALENDAR
