BEGIN:VCALENDAR
VERSION:2.0
PRODID:-//ChamberMaster//Event Calendar 2.0//EN
METHOD:PUBLISH
X-PUBLISHED-TTL:P3D
REFRESH-INTERVAL:P3D
CALSCALE:GREGORIAN
BEGIN:VEVENT
DTSTART:20211125T140000Z
DTEND:20211125T180000Z
X-MICROSOFT-CDO-ALLDAYEVENT:FALSE
SUMMARY:Canton Turkey Trot
DESCRIPTION:8:00 AM 5K and 1 Mile Races Earn your pie and give to your community! Run or walk with family and friends this thanksgiving. All proceeds go to those who cannot afford Y memberships or programs. Kids\, adults\, families\, and individuals of all fitness levels are welcome.
X-ALT-DESC;FMTTYPE=text/html:8:00 AM 5K and 1 Mile Races Earn your pie and give to your community! Run or walk with family and friends this thanksgiving. All proceeds go to those who cannot afford Y memberships or programs. Kids\, adults\, families\, and individuals of all fitness levels are welcome.
LOCATION:Canton Family YMCA 1325 E. Ash St. Canton\, IL 61520
UID:e.1688.7700
SEQUENCE:3
DTSTAMP:20260422T051129Z
URL:https://cantondirectory.csmdemo.com/events/details/canton-turkey-trot-7700
END:VEVENT

END:VCALENDAR
