BEGIN:VCALENDAR
VERSION:2.0
PRODID:-//ChamberMaster//Event Calendar 2.0//EN
METHOD:PUBLISH
X-PUBLISHED-TTL:P3D
REFRESH-INTERVAL:P3D
CALSCALE:GREGORIAN
BEGIN:VEVENT
DTSTART:20210209T180000Z
DTEND:20210209T193500Z
X-MICROSOFT-CDO-ALLDAYEVENT:FALSE
SUMMARY:Caregiving for Alzheimer's or Dementia
DESCRIPTION:LIVING WITH ALZHEIMER'S FOR CAREGIVERS-LATE STAGE (PART 2) AND DEALING WITH GRIEF 12 PM-1:30 PM CDT In the late stage of Alzheimer's disease\, caregiving typically involves new ways of connecting and interacting with the person with the disease. In this 2-part series\, you'll hear from caregivers and professionals about resources\, monitoring care and providing meaningful connection for the person with late-stage Alzheimer's and their families. To register for each session\, click on links below or call this 24/7 HELPline at 800.272.3900. https://www.communityresourcefinder.org/ResourceView/Index?id=2038021&profileDefinitionId=93
X-ALT-DESC;FMTTYPE=text/html:LIVING WITH ALZHEIMER&rsquo\;S FOR CAREGIVERS-LATE STAGE (PART 2) AND DEALING WITH GRIEF 12 PM-1:30 PM CDT In the late stage of Alzheimer&rsquo\;s disease\, caregiving typically involves new ways of connecting and interacting with the person with the disease. In this 2-part series\, you&rsquo\;ll hear from caregivers and professionals about resources\, monitoring care and providing meaningful connection for the person with late-stage Alzheimer&rsquo\;s and their families. To register for each session\, click on links below or call this 24/7 HELPline at 800.272.3900. https://www.communityresourcefinder.org/ResourceView/Index?id=2038021&amp\;profileDefinitionId=93
LOCATION:webinar
UID:e.1688.7526
SEQUENCE:3
DTSTAMP:20260423T124009Z
URL:https://cantondirectory.csmdemo.com/events/details/caregiving-for-alzheimer-s-or-dementia-02-09-2021-7526
END:VEVENT

END:VCALENDAR
