BEGIN:VCALENDAR
VERSION:2.0
PRODID:-//ChamberMaster//Event Calendar 2.0//EN
METHOD:PUBLISH
X-PUBLISHED-TTL:P3D
REFRESH-INTERVAL:P3D
CALSCALE:GREGORIAN
BEGIN:VEVENT
DTSTART:20220925T203000Z
DTEND:20220925T213000Z
X-MICROSOFT-CDO-ALLDAYEVENT:FALSE
SUMMARY:Cemetery Walk - Voices of the Past
DESCRIPTION:2022 Cemetery Walk "Voices of the Past" will be held on Sunday\, September 25th with two show times. Rain date set for the following Monday. Participants walk from headstone to headstone and are met by local performers who portray selected individuals interred in Canton's Greenwood Cemetery by recounting key episodes of their lives.
X-ALT-DESC;FMTTYPE=text/html:2022 Cemetery Walk &quot\;Voices of the Past&quot\; will be held on Sunday\, September 25th with two show times. Rain date set for the following Monday. Participants walk from headstone to headstone and are met by local performers who portray selected individuals interred in Canton&#39\;s Greenwood Cemetery by recounting key episodes of their lives.&nbsp\;
LOCATION:Greenwood Cemetery on South Main Street in Canton
UID:e.1688.7781
SEQUENCE:3
DTSTAMP:20260421T152941Z
URL:https://cantondirectory.csmdemo.com/events/details/cemetery-walk-voices-of-the-past-7781
END:VEVENT

END:VCALENDAR
