BEGIN:VCALENDAR
VERSION:2.0
PRODID:-//ChamberMaster//Event Calendar 2.0//EN
METHOD:PUBLISH
X-PUBLISHED-TTL:P3D
REFRESH-INTERVAL:P3D
CALSCALE:GREGORIAN
BEGIN:VEVENT
DTSTART:20221029T170000Z
DTEND:20221029T180000Z
X-MICROSOFT-CDO-ALLDAYEVENT:FALSE
SUMMARY:CHS Class of 1956 Gathering
DESCRIPTION:The Canton Senior High School Class of 1956 will meet at noon on Saturday\, October 29th\, at Country Line Bar & Grill\, 725 W. Locust Street in Canton.
X-ALT-DESC;FMTTYPE=text/html:<b data-event-added="1" style="font-family: &quot\;Helvetica Neue&quot\;\, Helvetica\, Arial\, sans-serif\; font-size: 16px\; background-color: rgb(255\, 255\, 255)\;">The Canton Senior High School Class of 1956 will meet at&nbsp\;<span class="awjKI" data-markjs="true" role="link" style="border-width: 0px 0px 1px\; border-top-style: initial\; border-right-style: initial\; border-bottom-style: dashed\; border-left-style: initial\; border-top-color: initial\; border-right-color: initial\; border-bottom-color: var(--themePrimary)\; border-left-color: initial\; border-image: initial\; font: inherit\; margin: 0px\; padding: 1px 0px\; vertical-align: baseline\; color: var(--themePrimary)\; cursor: pointer\;" tabindex="0">noon on Saturday\, October 29th</span>\, at Country Line Bar &amp\; Grill\, 725 W. Locust Street in Canton.</b>
LOCATION:
UID:e.1688.7828
SEQUENCE:3
DTSTAMP:20260421T122936Z
URL:https://cantondirectory.csmdemo.com/events/details/chs-class-of-1956-gathering-7828
END:VEVENT

END:VCALENDAR
