BEGIN:VCALENDAR
VERSION:2.0
PRODID:-//ChamberMaster//Event Calendar 2.0//EN
METHOD:PUBLISH
X-PUBLISHED-TTL:P3D
REFRESH-INTERVAL:P3D
CALSCALE:GREGORIAN
BEGIN:VEVENT
DTSTART:20220924T170000Z
DTEND:20220924T180000Z
X-MICROSOFT-CDO-ALLDAYEVENT:FALSE
SUMMARY:CHS Class of 1956 Lunch
DESCRIPTION:The Canton Senior High School Class of 1956 will meet at noon on Saturday\, September 24th at Official Time Out located at 68 E. Elm Street in Canton
X-ALT-DESC;FMTTYPE=text/html:The Canton Senior High School Class of 1956 will meet at noon on Saturday\, September 24th at Official Time Out located at 68 E. Elm Street in Canton
LOCATION:Official Time Out 68 E. Elm Street in Canton
UID:e.1688.7814
SEQUENCE:3
DTSTAMP:20260421T152640Z
URL:https://cantondirectory.csmdemo.com/events/details/chs-class-of-1956-lunch-7814
END:VEVENT

END:VCALENDAR
