BEGIN:VCALENDAR
VERSION:2.0
PRODID:-//ChamberMaster//Event Calendar 2.0//EN
METHOD:PUBLISH
X-PUBLISHED-TTL:P3D
REFRESH-INTERVAL:P3D
CALSCALE:GREGORIAN
BEGIN:VEVENT
DTSTART:20230429T170000Z
DTEND:20230429T190000Z
X-MICROSOFT-CDO-ALLDAYEVENT:FALSE
SUMMARY:CHS Senior Class of 1956 Lunch
DESCRIPTION:Canton Senior High School Class of 1956 will meet for lunch at noon on Saturday\, April 29th\, at Country Line Restaurant\, 725 W. Locust Street in Canton.
X-ALT-DESC;FMTTYPE=text/html:<div data-setdir="false" dir="ltr" style="border: 0px\; font-variant-numeric: inherit\; font-variant-east-asian: inherit\; font-variant-alternates: inherit\; font-stretch: inherit\; font-size: 16px\; line-height: inherit\; font-family: &quot\;Helvetica Neue&quot\;\, Helvetica\, Arial\, sans-serif\; font-optical-sizing: inherit\; font-kerning: inherit\; font-feature-settings: inherit\; font-variation-settings: inherit\; margin: 0px\; padding: 0px\; vertical-align: baseline\; color: rgb(66\, 66\, 66)\;"><b>Canton Senior High School Class of 1956 will meet for lunch at noon on Saturday\, April 29th\, at Country Line Restaurant\, 725 W. Locust Street in Canton.</b></div>\n\n<div>&nbsp\;</div>\n
LOCATION:Country Line Restaurant 725 W. Locust Street Canton\, IL 61520
UID:e.1688.7928
SEQUENCE:3
DTSTAMP:20260421T034917Z
URL:https://cantondirectory.csmdemo.com/events/details/chs-senior-class-of-1956-lunch-7928
END:VEVENT

END:VCALENDAR
