BEGIN:VCALENDAR
VERSION:2.0
PRODID:-//ChamberMaster//Event Calendar 2.0//EN
METHOD:PUBLISH
X-PUBLISHED-TTL:P3D
REFRESH-INTERVAL:P3D
CALSCALE:GREGORIAN
BEGIN:VEVENT
DTSTART:20230729T170000Z
DTEND:20230729T170000Z
X-MICROSOFT-CDO-ALLDAYEVENT:FALSE
SUMMARY:CHS Senior Class of 1956 Lunch
DESCRIPTION:The Canton Senior High School Class of 1956 will meet for lunch at noon on\n\n\n\nSaturday\, July 29th\, at Billy's Tap.
X-ALT-DESC;FMTTYPE=text/html:<b style="color: rgb(66\, 66\, 66)\; font-family: &quot\;Helvetica Neue&quot\;\, Helvetica\, Arial\, sans-serif\; font-size: 16px\;">The Canton Senior High School Class of 1956 will meet for lunch at noon on<br />\n<br />\nSaturday\, July 29th\, at Billy&#39\;s Tap.&nbsp\;</b>
LOCATION:Billy's Tap 172 E. Elm Street in Canton.
UID:e.1688.7961
SEQUENCE:3
DTSTAMP:20260420T203051Z
URL:https://cantondirectory.csmdemo.com/events/details/chs-senior-class-of-1956-lunch-7961
END:VEVENT

END:VCALENDAR
