BEGIN:VCALENDAR
VERSION:2.0
PRODID:-//ChamberMaster//Event Calendar 2.0//EN
METHOD:PUBLISH
X-PUBLISHED-TTL:P3D
REFRESH-INTERVAL:P3D
CALSCALE:GREGORIAN
BEGIN:VEVENT
DTSTART:20210626T140000Z
DTEND:20210626T170000Z
X-MICROSOFT-CDO-ALLDAYEVENT:FALSE
SUMMARY:Community Shred Day
DESCRIPTION:Join us for Community Shred Day! Your old papers will be shredded and recycled - free of charge. Go green and protect yourself from identity theft at the same time. No businesses\, please. Event may end earlier if shred truck fills up before noon. Secure shredding and recycling provided by Confidential Security Corp.
X-ALT-DESC;FMTTYPE=text/html:Join us for Community Shred Day! Your old papers will be shredded and recycled - free of charge. Go green and protect yourself from identity theft at the same time. No businesses\, please. Event may end earlier if shred truck fills up before noon. Secure shredding and recycling provided by Confidential Security Corp.
LOCATION:MidAmerica National Bank Parking Lot 100 West Elm Street
UID:e.1688.7577
SEQUENCE:3
DTSTAMP:20260423T012140Z
URL:https://cantondirectory.csmdemo.com/events/details/community-shred-day-06-26-2021-7577
END:VEVENT

END:VCALENDAR
