BEGIN:VCALENDAR
VERSION:2.0
PRODID:-//ChamberMaster//Event Calendar 2.0//EN
METHOD:PUBLISH
X-PUBLISHED-TTL:P3D
REFRESH-INTERVAL:P3D
CALSCALE:GREGORIAN
BEGIN:VEVENT
DTSTART:20220723T140000Z
DTEND:20220723T170000Z
X-MICROSOFT-CDO-ALLDAYEVENT:FALSE
SUMMARY:Community Shred Day
DESCRIPTION:Protect yourself from identity theft by bringing your personal documents for secure shredding and recycling. We are proud to offer this service free of charge as our way of serving our communities. Event may end earlier if the shred truck fills up before Noon. No businesses\, please. Secure shredding recycling provided by Confidential Security Corp.
X-ALT-DESC;FMTTYPE=text/html:Protect yourself from identity theft by bringing your personal documents for secure shredding and recycling. We are proud to offer this service free of charge as our way of serving our communities. Event may end earlier if the shred truck fills up before Noon. No businesses\, please. Secure shredding recycling provided by Confidential Security Corp.
LOCATION:100 West Elm Street\, Canton (Parking Lot)
UID:e.1688.7736
SEQUENCE:3
DTSTAMP:20260421T165138Z
URL:https://cantondirectory.csmdemo.com/events/details/community-shred-day-07-23-2022-7736
END:VEVENT

END:VCALENDAR
