BEGIN:VCALENDAR
VERSION:2.0
PRODID:-//ChamberMaster//Event Calendar 2.0//EN
METHOD:PUBLISH
X-PUBLISHED-TTL:P3D
REFRESH-INTERVAL:P3D
CALSCALE:GREGORIAN
BEGIN:VEVENT
DTSTART:20220910T223000Z
DTEND:20220911T023000Z
X-MICROSOFT-CDO-ALLDAYEVENT:FALSE
SUMMARY:Cowboy Cookout "Do it for the Girls" Breast Cancer Awareness Fundraiser Graham Hospital Foundation
DESCRIPTION:Graham Hospital Foundation Breast Cancer Awareness Event
X-ALT-DESC;FMTTYPE=text/html:Graham Hospital Foundation Breast Cancer Awareness Event
LOCATION:Big Horse Vineyards 11603 Co Rd 9\, Lewistown\, IL 61542
UID:e.1688.7808
SEQUENCE:3
DTSTAMP:20260421T140931Z
URL:https://cantondirectory.csmdemo.com/events/details/cowboy-cookout-do-it-for-the-girls-breast-cancer-awareness-fundraiser-graham-hospital-foundation-7808
END:VEVENT

END:VCALENDAR
