BEGIN:VCALENDAR
VERSION:2.0
PRODID:-//ChamberMaster//Event Calendar 2.0//EN
METHOD:PUBLISH
X-PUBLISHED-TTL:P3D
REFRESH-INTERVAL:P3D
CALSCALE:GREGORIAN
BEGIN:VEVENT
DTSTART:20210915T163000Z
DTEND:20210915T180000Z
X-MICROSOFT-CDO-ALLDAYEVENT:FALSE
SUMMARY:Dale Carnegie Fall Leadership Series
DESCRIPTION:Quickly Build Rapport with Your Team & Others \n\n\n\nSo many professionals and leaders are quick to focus on "getting results" when working with others\, but fail to realize how much easier it can be to get results when people really WANT to work with you. In this workshop\, learn techniques to quickly build lasting rapport with your team and others even if being socially outgoing isn't your thing. Learn HOW to take more of an interest in others and build meaningful connections that make so many things much easier: gaining their cooperation\, getting them on board with your ideas\, working through performance issues\, etc. Become more a likeable person. Make stronger connections with others. And get more results!
X-ALT-DESC;FMTTYPE=text/html:<u><strong>Quickly Build Rapport with Your Team &amp\; Others </strong></u><br />\n<br />\nSo many professionals and leaders are quick to focus on &ldquo\;getting results&rdquo\; when working with others\, but fail to realize how much easier it can be to get results when people really WANT to work with you. In this workshop\, learn techniques to quickly build lasting rapport with your team and others even if being socially outgoing isn&rsquo\;t your thing. Learn HOW to take more of an interest in others and build meaningful connections that make so many things much easier: gaining their cooperation\, getting them on board with your ideas\, working through performance issues\, etc. Become more a likeable person. Make stronger connections with others. And get more results!
LOCATION:Live online
UID:e.1688.7611
SEQUENCE:3
DTSTAMP:20260422T085844Z
URL:https://cantondirectory.csmdemo.com/events/details/dale-carnegie-fall-leadership-series-7611
END:VEVENT

END:VCALENDAR
