BEGIN:VCALENDAR
VERSION:2.0
PRODID:-//ChamberMaster//Event Calendar 2.0//EN
METHOD:PUBLISH
X-PUBLISHED-TTL:P3D
REFRESH-INTERVAL:P3D
CALSCALE:GREGORIAN
BEGIN:VEVENT
DTSTART:20210922T163000Z
DTEND:20210922T180000Z
X-MICROSOFT-CDO-ALLDAYEVENT:FALSE
SUMMARY:Dale Carnegie Fall Leadership Series
DESCRIPTION:Master Leadership Essentials \n\n\n\nIn this session\, we'll cover three essential leadership skills and learn how to be more effective with each. After the session\, you'll be able to: Set goals and motivate others to achieve them. Give supportive and corrective feedback to others in a way that motivates. Increase workplace enthusiasm through recognition. Whether you're a first-time leader\, a seasoned leader with years of experience or you want to get into leadership at some point\; up your professional game in this highly interactive session.
X-ALT-DESC;FMTTYPE=text/html:<u><strong>Master Leadership Essentials </strong></u><br />\n<br />\nIn this session\, we&rsquo\;ll cover three essential leadership skills and learn how to be more effective with each. After the session\, you&rsquo\;ll be able to: Set goals and motivate others to achieve them. Give supportive and corrective feedback to others in a way that motivates. Increase workplace enthusiasm through recognition. Whether you&rsquo\;re a first-time leader\, a seasoned leader with years of experience or you want to get into leadership at some point\; up your professional game in this highly interactive session.
LOCATION:Live online
UID:e.1688.7613
SEQUENCE:3
DTSTAMP:20260422T074140Z
URL:https://cantondirectory.csmdemo.com/events/details/dale-carnegie-fall-leadership-series-7613
END:VEVENT

END:VCALENDAR
