BEGIN:VCALENDAR
VERSION:2.0
PRODID:-//ChamberMaster//Event Calendar 2.0//EN
METHOD:PUBLISH
X-PUBLISHED-TTL:P3D
REFRESH-INTERVAL:P3D
CALSCALE:GREGORIAN
BEGIN:VEVENT
DTSTART:20210929T163000Z
DTEND:20210929T180000Z
X-MICROSOFT-CDO-ALLDAYEVENT:FALSE
SUMMARY:Dale Carnegie Fall Leadership Series
DESCRIPTION:Become More Persuasive \n\n\n\nGetting our opinions and ideas across in a persuasive way can be hard\, particularly when others are set in their ways or don't see things from our perspective. As a result\, disagreements become an inevitable part of any work environment. And when they go unresolved\, tensions rise\, energy is wasted\, and productivity suffers. In this interactive workshop\, learn techniques that will dramatically increase your ability to persuade others and keep the communication lines open when others disagree with you.
X-ALT-DESC;FMTTYPE=text/html:<u><strong>Become More Persuasive </strong></u><br />\n<br />\nGetting our opinions and ideas across in a persuasive way can be hard\, particularly when others are set in their ways or don&rsquo\;t see things from our perspective. As a result\, disagreements become an inevitable part of any work environment. And when they go unresolved\, tensions rise\, energy is wasted\, and productivity suffers. In this interactive workshop\, learn techniques that will dramatically increase your ability to persuade others and keep the communication lines open when others disagree with you.&nbsp\;
LOCATION:Live online
UID:e.1688.7614
SEQUENCE:3
DTSTAMP:20260422T085854Z
URL:https://cantondirectory.csmdemo.com/events/details/dale-carnegie-fall-leadership-series-7614
END:VEVENT

END:VCALENDAR
