BEGIN:VCALENDAR
VERSION:2.0
PRODID:-//ChamberMaster//Event Calendar 2.0//EN
METHOD:PUBLISH
X-PUBLISHED-TTL:P3D
REFRESH-INTERVAL:P3D
CALSCALE:GREGORIAN
BEGIN:VEVENT
DTSTART:20210714T170000Z
DTEND:20210714T180000Z
X-MICROSOFT-CDO-ALLDAYEVENT:FALSE
SUMMARY:Dementia Conversations & Brain Gym Basics
DESCRIPTION:When someone is showing signs of dementia\, it's time to talk. Often\, conversations with family about changing behaviors can be challenging and uncomfortable. This program provides tips for breaking the ice with your family so you can address some of the most common issues that are difficult to discuss: going to the doctor for a diagnosis or medical treatment\, deciding when to stop driving\, and making legal and financial plans for future care. Followed by\, Rhonda Nelson\, national mental health first aid trainer\, will help you combat life's stress that leave you feeling disconnected and unable to focus. Brain Gym exercises will enhance your daily functioning by helping your brain stay connect to its resources. Registration Please note this ink is case-sensitive. https://bit.ly/3xcM5KZ 24/7 Helpline 800.272.3900 Visit alz.org/CRF to explore additional education programs in your area
X-ALT-DESC;FMTTYPE=text/html:When someone is showing signs of dementia\, it&rsquo\;s time to talk. Often\, conversations with family about changing behaviors can be challenging and uncomfortable. This program provides tips for breaking the ice with your family so you can address some of the most common issues that are difficult to discuss: going to the doctor for a diagnosis or medical treatment\, deciding when to stop driving\, and making legal and financial plans for future care. Followed by\, Rhonda Nelson\, national mental health first aid trainer\, will help you combat life&rsquo\;s stress that leave you feeling disconnected and unable to focus. Brain Gym exercises will enhance your daily functioning by helping your brain stay connect to its resources. Registration Please note this ink is case-sensitive. https://bit.ly/3xcM5KZ 24/7 Helpline 800.272.3900 Visit alz.org/CRF to explore additional education programs in your area
LOCATION:Join via Zoom or by Phone
UID:e.1688.7602
SEQUENCE:3
DTSTAMP:20260422T114043Z
URL:https://cantondirectory.csmdemo.com/events/details/dementia-conversations-brain-gym-basics-7602
END:VEVENT

END:VCALENDAR
