BEGIN:VCALENDAR
VERSION:2.0
PRODID:-//ChamberMaster//Event Calendar 2.0//EN
METHOD:PUBLISH
X-PUBLISHED-TTL:P3D
REFRESH-INTERVAL:P3D
CALSCALE:GREGORIAN
BEGIN:VEVENT
DTSTART:20210928T170000Z
DTEND:20210928T180000Z
X-MICROSOFT-CDO-ALLDAYEVENT:FALSE
SUMMARY:Dementia Conversations & Hand Massage Tips with Becky Cobb\, Reflexologist
DESCRIPTION:An Education Program presented by Alzheimer's Association When someone is showing signs of dementia\, it's time to talk. Often\, conversations with family about changing behaviors can be challenging and uncomfortable. This program provides tips for breaking the ice with your family so you can address some of the most common issues that are difficult to discuss: going to the doctor for a diagnosis or medical treatment\, deciding when to stop driving\, and making legal and financial plans for future care. Followed by\, a 15-minute class by Becky Cobb\, Reflexologist with Balance and Harmony. She will teach you how to give a great hand massage. Take advantage of simple techniques to relax and relieve stress for you and your loved one living with dementia. Registration Call 800.272.3900 Visit alz.org/CRF to explore additional education programs in your area.
X-ALT-DESC;FMTTYPE=text/html:An Education Program presented by Alzheimer&#39\;s Association When someone is showing signs of dementia\, it&rsquo\;s time to talk. Often\, conversations with family about changing behaviors can be challenging and uncomfortable. This program provides tips for breaking the ice with your family so you can address some of the most common issues that are difficult to discuss: going to the doctor for a diagnosis or medical treatment\, deciding when to stop driving\, and making legal and financial plans for future care. Followed by\, a 15-minute class by Becky Cobb\, Reflexologist with Balance and Harmony. She will teach you how to give a great hand massage. Take advantage of simple techniques to relax and relieve stress for you and your loved one living with dementia. Registration Call 800.272.3900 Visit alz.org/CRF to explore additional education programs in your area.
LOCATION:Join via Zoom or by Phone
UID:e.1688.7662
SEQUENCE:3
DTSTAMP:20260422T102353Z
URL:https://cantondirectory.csmdemo.com/events/details/dementia-conversations-hand-massage-tips-with-becky-cobb-reflexologist-7662
END:VEVENT

END:VCALENDAR
