BEGIN:VCALENDAR
VERSION:2.0
PRODID:-//ChamberMaster//Event Calendar 2.0//EN
METHOD:PUBLISH
X-PUBLISHED-TTL:P3D
REFRESH-INTERVAL:P3D
CALSCALE:GREGORIAN
BEGIN:VEVENT
DTSTART:20210603T143000Z
DTEND:20210603T153000Z
X-MICROSOFT-CDO-ALLDAYEVENT:FALSE
SUMMARY:Dickson Mounds Tot Time: Big Trucks
DESCRIPTION:Tot Time is happening this month at Dickson Mounds!  Adults and their tots will have fun exploring\, discovering\, and learning on the first Thursday of the month. A different topic is featured each month. Registration is not required.\n\n \n\nTots and their caretakers may enjoy viewing a variety of BIG trucks\, including a fire truck\, dump truck\, and the Barko\, which is used in forestry management\, and to meet the people who operate these vehicles.  Tots and their caretakers are welcome to self-guide through the Museum's grounds to visit each truck. \n\n \n\nTots may receive giveaway items\, such as Big Truck toys\, stickers\, and other trinkets\, to take home.  Giveaway items are limited and available on a first come\, first served basis.   Older siblings are welcome to participate in the morning activities.
X-ALT-DESC;FMTTYPE=text/html:<p style="color: rgb(0\, 0\, 0)\; font-family: Calibri\, Arial\, Helvetica\, sans-serif\; font-size: 16px\; margin-top: 0px\; margin-bottom: 0px\;">Tot Time is happening this month at Dickson Mounds! &nbsp\;Adults and their tots will have fun exploring\, discovering\, and learning on the first Thursday of the month. A different topic is featured each month. Registration is not required.</p>\n\n<p style="color: rgb(0\, 0\, 0)\; font-family: Calibri\, Arial\, Helvetica\, sans-serif\; font-size: 16px\; margin-top: 0px\; margin-bottom: 0px\;">&nbsp\;</p>\n\n<p style="color: rgb(0\, 0\, 0)\; font-family: Calibri\, Arial\, Helvetica\, sans-serif\; font-size: 16px\; margin-top: 0px\; margin-bottom: 0px\;">Tots and their caretakers may enjoy viewing a variety of BIG trucks\, including a fire truck\, dump truck\, and the Barko\, which is used in forestry management\, and to meet the people who operate these vehicles.&nbsp\; Tots and their caretakers are welcome to self-guide through the Museum&rsquo\;s grounds to visit each truck.&nbsp\;</p>\n\n<p style="color: rgb(0\, 0\, 0)\; font-family: Calibri\, Arial\, Helvetica\, sans-serif\; font-size: 16px\; margin-top: 0px\; margin-bottom: 0px\;">&nbsp\;</p>\n\n<p style="color: rgb(0\, 0\, 0)\; font-family: Calibri\, Arial\, Helvetica\, sans-serif\; font-size: 16px\; margin-top: 0px\; margin-bottom: 0px\;">Tots may receive giveaway items\, such as Big Truck toys\, stickers\, and other trinkets\, to take home.&nbsp\; Giveaway items are limited and available on a first come\, first served basis.&nbsp\; &nbsp\;Older siblings are welcome to participate in the morning activities.&nbsp\;</p>\n
LOCATION:Illinois State Museum - Dickson Mounds 10956 N. Dickson Mounds Road Lewistown\, IL 61542
UID:e.1688.7579
SEQUENCE:3
DTSTAMP:20260422T223810Z
URL:https://cantondirectory.csmdemo.com/events/details/dickson-mounds-tot-time-big-trucks-7579
END:VEVENT

END:VCALENDAR
