BEGIN:VCALENDAR
VERSION:2.0
PRODID:-//ChamberMaster//Event Calendar 2.0//EN
METHOD:PUBLISH
X-PUBLISHED-TTL:P3D
REFRESH-INTERVAL:P3D
CALSCALE:GREGORIAN
BEGIN:VEVENT
DTSTART:20210717T160000Z
DTEND:20210718T060000Z
X-MICROSOFT-CDO-ALLDAYEVENT:FALSE
SUMMARY:Ean's Rumble Ride: Bikes Vs Jeeps
DESCRIPTION:A local Special Olympics fundraising bike and jeep ride through spoon river country with stops\, trails and scenic views. $15 per bike or jeep. Most vehicles per group takes home trophy with prizes and raffles available throughout. Music starts at 6pm. Sign up at Brew n Cue between 10am and noon. Kickstands and convoy starts at noon!!
X-ALT-DESC;FMTTYPE=text/html:A local Special Olympics fundraising bike and jeep ride through spoon river country with stops\, trails and scenic views. $15 per bike or jeep. Most vehicles per group takes home trophy with prizes and raffles available throughout. Music starts at 6pm. Sign up at Brew n Cue between 10am and noon. Kickstands and convoy starts at noon!!
LOCATION:Brew N Cue and Spoon River Area
UID:e.1688.7592
SEQUENCE:3
DTSTAMP:20260422T102607Z
URL:https://cantondirectory.csmdemo.com/events/details/ean-s-rumble-ride-bikes-vs-jeeps-7592
END:VEVENT

END:VCALENDAR
