BEGIN:VCALENDAR
VERSION:2.0
PRODID:-//ChamberMaster//Event Calendar 2.0//EN
METHOD:PUBLISH
X-PUBLISHED-TTL:P3D
REFRESH-INTERVAL:P3D
CALSCALE:GREGORIAN
BEGIN:VEVENT
DTSTART:20230409T153000Z
DTEND:20230409T164500Z
X-MICROSOFT-CDO-ALLDAYEVENT:FALSE
SUMMARY:Evangelical Free Church Easter Service
DESCRIPTION:Easter Service\n\nResurrection Day "His Victory" (1 Corinthians 15)- We will discuss the importance of the resurrection and the significance that should have in our own lives.
X-ALT-DESC;FMTTYPE=text/html:<span style="color: rgb(5\, 5\, 5)\; font-family: &quot\;Segoe UI Historic&quot\;\, &quot\;Segoe UI&quot\;\, Helvetica\, Arial\, sans-serif\; font-size: 15px\; white-space: pre-wrap\;">Easter Service<br />\nResurrection Day &quot\;His Victory&quot\; (1 Corinthians 15)- We will discuss the importance of the resurrection and the significance that should have in our own lives. </span>
LOCATION:Evangelical Free Church 1300 E. Chestnut Street Canton\, IL 61520
UID:e.1688.7907
SEQUENCE:3
DTSTAMP:20260421T015431Z
URL:https://cantondirectory.csmdemo.com/events/details/evangelical-free-church-easter-service-7907
END:VEVENT

END:VCALENDAR
