BEGIN:VCALENDAR
VERSION:2.0
PRODID:-//ChamberMaster//Event Calendar 2.0//EN
METHOD:PUBLISH
X-PUBLISHED-TTL:P3D
REFRESH-INTERVAL:P3D
CALSCALE:GREGORIAN
BEGIN:VEVENT
DTSTART:20230407T230000Z
DTEND:20230408T000000Z
X-MICROSOFT-CDO-ALLDAYEVENT:FALSE
SUMMARY:Evangelical Free Church's Good Friday Service
DESCRIPTION:Good Friday Service\n\n"His death" (Luke 23:26-56)- We will reflect on the sacrifice of Christ\, take communion together\, and mourn the sinful state of our flesh.
X-ALT-DESC;FMTTYPE=text/html:<span style="color: rgb(5\, 5\, 5)\; font-family: &quot\;Segoe UI Historic&quot\;\, &quot\;Segoe UI&quot\;\, Helvetica\, Arial\, sans-serif\; font-size: 15px\; white-space: pre-wrap\;">Good Friday Service<br />\n&quot\;His death&quot\; (Luke 23:26-56)- We will reflect on the sacrifice of Christ\, take communion together\, and mourn the sinful state of our flesh. </span>
LOCATION:Evangelical Free Church 1300 E. Chestnut Street Canton\, IL 61520
UID:e.1688.7918
SEQUENCE:3
DTSTAMP:20260421T015811Z
URL:https://cantondirectory.csmdemo.com/events/details/evangelical-free-church-s-good-friday-service-7918
END:VEVENT

END:VCALENDAR
