BEGIN:VCALENDAR
VERSION:2.0
PRODID:-//ChamberMaster//Event Calendar 2.0//EN
METHOD:PUBLISH
X-PUBLISHED-TTL:P3D
REFRESH-INTERVAL:P3D
CALSCALE:GREGORIAN
BEGIN:VEVENT
DTSTART:20221022T230000Z
DTEND:20221023T030000Z
X-MICROSOFT-CDO-ALLDAYEVENT:FALSE
SUMMARY:FCRC 9 Pin NO TAP BOWLING FUNDRAISER
DESCRIPTION:The Fulton County Rehabilitation Center \n\n9-Pin No Tap Bowling Fundraiser
X-ALT-DESC;FMTTYPE=text/html:The Fulton County Rehabilitation Center&nbsp\;<br />\n9-Pin No Tap Bowling Fundraiser<br />\n&nbsp\;
LOCATION:Linn Lanes\, Canton\, IL
UID:e.1688.7817
SEQUENCE:3
DTSTAMP:20260421T123051Z
URL:https://cantondirectory.csmdemo.com/events/details/fcrc-9-pin-no-tap-bowling-fundraiser-7817
END:VEVENT

END:VCALENDAR
