BEGIN:VCALENDAR
VERSION:2.0
PRODID:-//ChamberMaster//Event Calendar 2.0//EN
METHOD:PUBLISH
X-PUBLISHED-TTL:P3D
REFRESH-INTERVAL:P3D
CALSCALE:GREGORIAN
BEGIN:VEVENT
DTSTART:20220721T230000Z
DTEND:20220722T010000Z
X-MICROSOFT-CDO-ALLDAYEVENT:FALSE
SUMMARY:First Baptist Vacation Bible School
DESCRIPTION:Vacation Bible School\n\nAges 3 years-5th grade
X-ALT-DESC;FMTTYPE=text/html:Vacation Bible School<br />\nAges 3 years-5th grade
LOCATION:301 East Elm St.
UID:e.1688.7774
SEQUENCE:3
DTSTAMP:20260421T165301Z
URL:https://cantondirectory.csmdemo.com/events/details/first-baptist-vacation-bible-school-07-21-2022-7774
END:VEVENT

END:VCALENDAR
