BEGIN:VCALENDAR
VERSION:2.0
PRODID:-//ChamberMaster//Event Calendar 2.0//EN
METHOD:PUBLISH
X-PUBLISHED-TTL:P3D
REFRESH-INTERVAL:P3D
CALSCALE:GREGORIAN
BEGIN:VEVENT
DTSTART:20220726T230000Z
DTEND:20220727T010000Z
X-MICROSOFT-CDO-ALLDAYEVENT:FALSE
SUMMARY:First Christian Canton Vacation Bible School
DESCRIPTION:Vacation Bible School \n\nAges 4-6th grade
X-ALT-DESC;FMTTYPE=text/html:Vacation Bible School&nbsp\;<br />\nAges 4-6th grade
LOCATION:First Christian Church 215 W. Elm Canton\, IL
UID:e.1688.7778
SEQUENCE:3
DTSTAMP:20260421T165526Z
URL:https://cantondirectory.csmdemo.com/events/details/first-christian-canton-vacation-bible-school-07-26-2022-7778
END:VEVENT

END:VCALENDAR
