BEGIN:VCALENDAR
VERSION:2.0
PRODID:-//ChamberMaster//Event Calendar 2.0//EN
METHOD:PUBLISH
X-PUBLISHED-TTL:P3D
REFRESH-INTERVAL:P3D
CALSCALE:GREGORIAN
BEGIN:VEVENT
DTSTART:20230408T000000Z
DTEND:20230408T010000Z
X-MICROSOFT-CDO-ALLDAYEVENT:FALSE
SUMMARY:First Presbyterian Church's Good Friday Service
DESCRIPTION:Good Friday Service
X-ALT-DESC;FMTTYPE=text/html:Good Friday Service
LOCATION:First Presbyterian Church 275 Linden Street Canton\, IL 61520
UID:e.1688.7912
SEQUENCE:3
DTSTAMP:20260421T035045Z
URL:https://cantondirectory.csmdemo.com/events/details/first-presbyterian-church-s-good-friday-service-7912
END:VEVENT

END:VCALENDAR
