BEGIN:VCALENDAR
VERSION:2.0
PRODID:-//ChamberMaster//Event Calendar 2.0//EN
METHOD:PUBLISH
X-PUBLISHED-TTL:P3D
REFRESH-INTERVAL:P3D
CALSCALE:GREGORIAN
BEGIN:VEVENT
DTSTART;VALUE=DATE:20220915
DTEND;VALUE=DATE:20220916
TRANSP:TRANSPARENT
X-MICROSOFT-CDO-ALLDAYEVENT:TRUE
SUMMARY:Friendship Festival
DESCRIPTION:Friendship Festival
X-ALT-DESC;FMTTYPE=text/html:Friendship Festival&nbsp\;
LOCATION:Fair Grounds - Linn Street - next to Linn Lanes Bowling Alley
UID:e.1688.7756
SEQUENCE:3
DTSTAMP:20260421T140516Z
URL:https://cantondirectory.csmdemo.com/events/details/friendship-festival-7756
END:VEVENT

END:VCALENDAR
