BEGIN:VCALENDAR
VERSION:2.0
PRODID:-//ChamberMaster//Event Calendar 2.0//EN
METHOD:PUBLISH
X-PUBLISHED-TTL:P3D
REFRESH-INTERVAL:P3D
CALSCALE:GREGORIAN
BEGIN:VEVENT
DTSTART:20220917T150000Z
DTEND:20220917T160000Z
X-MICROSOFT-CDO-ALLDAYEVENT:FALSE
SUMMARY:Friendship Festival Parade
DESCRIPTION:
X-ALT-DESC;FMTTYPE=text/html:
LOCATION:Route starts in downtown Canton on Elm Street and runs down South Main Street to Oak and over to the Fairgrounds and ends at the Fulton County Health Department
UID:e.1688.7759
SEQUENCE:3
DTSTAMP:20260421T140429Z
URL:https://cantondirectory.csmdemo.com/events/details/friendship-festival-parade-7759
END:VEVENT

END:VCALENDAR
