BEGIN:VCALENDAR
VERSION:2.0
PRODID:-//ChamberMaster//Event Calendar 2.0//EN
METHOD:PUBLISH
X-PUBLISHED-TTL:P3D
REFRESH-INTERVAL:P3D
CALSCALE:GREGORIAN
BEGIN:VEVENT
DTSTART:20221101T220000Z
DTEND:20221102T000000Z
X-MICROSOFT-CDO-ALLDAYEVENT:FALSE
SUMMARY:Fulton County Democrat Pre-Election Open House
DESCRIPTION:Fulton County Democrats will be hosting a pre-election Open House/Meet the Candidate's event on Nov. 1st at Official Time Out (OTO) from 5:00-7:00 p.m. Soup\, soft drinks & dessert will be provided by the Democrats. Cash bar is available. All local candidates are encouraged to attend
X-ALT-DESC;FMTTYPE=text/html:<b style="color: rgb(36\, 36\, 36)\; font-family: &quot\;Segoe UI&quot\;\, &quot\;Segoe UI Web (West European)&quot\;\, &quot\;Segoe UI&quot\;\, -apple-system\, BlinkMacSystemFont\, Roboto\, &quot\;Helvetica Neue&quot\;\, sans-serif\; font-size: 15px\; background-color: rgb(255\, 255\, 255)\;"><span style="border: 0px\; font-style: inherit\; font-variant: inherit\; font-weight: inherit\; font-stretch: inherit\; font-size: 14.6667px\; line-height: inherit\; font-family: Calibri\, sans-serif\; margin: 0px\; padding: 0px\; vertical-align: baseline\; color: inherit\;">Fulton County Democrats will be hosting a pre-election Open House/Meet the Candidate&rsquo\;s event on Nov. 1st at Official Time Out (OTO) from 5:00-7:00 p.m. Soup\, soft drinks &amp\; dessert will be provided by the Democrats. Cash bar is available. All local candidates are encouraged to attend</span></b>
LOCATION:Official Time Out 68 E Elm Street Canton
UID:e.1688.7859
SEQUENCE:3
DTSTAMP:20260421T123220Z
URL:https://cantondirectory.csmdemo.com/events/details/fulton-county-democrat-pre-election-open-house-7859
END:VEVENT

END:VCALENDAR
