BEGIN:VCALENDAR
VERSION:2.0
PRODID:-//ChamberMaster//Event Calendar 2.0//EN
METHOD:PUBLISH
X-PUBLISHED-TTL:P3D
REFRESH-INTERVAL:P3D
CALSCALE:GREGORIAN
BEGIN:VEVENT
DTSTART;VALUE=DATE:20220725
DTEND;VALUE=DATE:20220726
TRANSP:TRANSPARENT
X-MICROSOFT-CDO-ALLDAYEVENT:TRUE
SUMMARY:Fulton County Fair
DESCRIPTION:
X-ALT-DESC;FMTTYPE=text/html:
LOCATION:Fulton County Fair Grounds in Lewistown
UID:e.1688.7760
SEQUENCE:3
DTSTAMP:20260421T164936Z
URL:https://cantondirectory.csmdemo.com/events/details/fulton-county-fair-7760
END:VEVENT

END:VCALENDAR
