BEGIN:VCALENDAR
VERSION:2.0
PRODID:-//ChamberMaster//Event Calendar 2.0//EN
METHOD:PUBLISH
X-PUBLISHED-TTL:P3D
REFRESH-INTERVAL:P3D
CALSCALE:GREGORIAN
BEGIN:VEVENT
DTSTART:20240720T150000Z
DTEND:20240720T190000Z
X-MICROSOFT-CDO-ALLDAYEVENT:FALSE
SUMMARY:Garden Walk 2024
DESCRIPTION:The Spoon River Garden Club is holding their Garden Walk 2024 on July 20\, 2024.  The event runs from 10:00am to 2:00pm.  Specific gardens will be announced closer to the event\, but all promise to offer a showcase of beautiful landscaping and floral displays.\n\n \n\nTickets are $10 and available at the following businesses:  American Grille Restaurant\, the Canton Area Chamber of Commerce\, Hy-Vee Florist\, Walter's Flowers\, Carnegie on Lincoln in Lewistown\, and Diva Florist LTD in Farmington.\n\n \n\nAll proceeds benefit the SRGC's Secondary Education Scholarship. \n\n \n\nContact spoonrivergardenclub@gmail.com with questions.
X-ALT-DESC;FMTTYPE=text/html:<p class="x_MsoNormal" style="margin: 0in\; font-size: 11pt\; font-family: Calibri\, sans-serif\; color: rgb(36\, 36\, 36)\;"><span style="border: 0px\; font-style: inherit\; font-variant: inherit\; font-weight: inherit\; font-stretch: inherit\; font-size: inherit\; line-height: inherit\; font-family: Tahoma\, sans-serif\, serif\, EmojiFont\; font-optical-sizing: inherit\; font-kerning: inherit\; font-feature-settings: inherit\; font-variation-settings: inherit\; margin: 0px\; padding: 0px\; vertical-align: baseline\; color: inherit\;">The Spoon River Garden Club is holding their Garden Walk 2024 on July 20\, 2024.&nbsp\; The event runs from 10:00am to 2:00pm.&nbsp\; Specific gardens will be announced closer to the event\, but all promise to offer a showcase of beautiful landscaping and floral displays.</span></p>\n\n<p class="x_MsoNormal" style="margin: 0in\; font-size: 11pt\; font-family: Calibri\, sans-serif\; color: rgb(36\, 36\, 36)\;"><span style="border: 0px\; font-style: inherit\; font-variant: inherit\; font-weight: inherit\; font-stretch: inherit\; font-size: inherit\; line-height: inherit\; font-family: Tahoma\, sans-serif\, serif\, EmojiFont\; font-optical-sizing: inherit\; font-kerning: inherit\; font-feature-settings: inherit\; font-variation-settings: inherit\; margin: 0px\; padding: 0px\; vertical-align: baseline\; color: inherit\;">&nbsp\;</span></p>\n\n<p class="x_MsoNormal" style="margin: 0in\; font-size: 11pt\; font-family: Calibri\, sans-serif\; color: rgb(36\, 36\, 36)\;"><span style="border: 0px\; font-style: inherit\; font-variant: inherit\; font-weight: inherit\; font-stretch: inherit\; font-size: inherit\; line-height: inherit\; font-family: Tahoma\, sans-serif\, serif\, EmojiFont\; font-optical-sizing: inherit\; font-kerning: inherit\; font-feature-settings: inherit\; font-variation-settings: inherit\; margin: 0px\; padding: 0px\; vertical-align: baseline\; color: inherit\;">Tickets are $10 and available at the following businesses:&nbsp\; American Grille Restaurant\, the Canton Area Chamber of Commerce\, Hy-Vee Florist\, Walter&rsquo\;s Flowers\, Carnegie on Lincoln in Lewistown\, and Diva Florist LTD in Farmington.</span></p>\n\n<p class="x_MsoNormal" style="margin: 0in\; font-size: 11pt\; font-family: Calibri\, sans-serif\; color: rgb(36\, 36\, 36)\;"><span style="border: 0px\; font-style: inherit\; font-variant: inherit\; font-weight: inherit\; font-stretch: inherit\; font-size: inherit\; line-height: inherit\; font-family: Tahoma\, sans-serif\, serif\, EmojiFont\; font-optical-sizing: inherit\; font-kerning: inherit\; font-feature-settings: inherit\; font-variation-settings: inherit\; margin: 0px\; padding: 0px\; vertical-align: baseline\; color: inherit\;">&nbsp\;</span></p>\n\n<p class="x_MsoNormal" style="margin: 0in\; font-size: 11pt\; font-family: Calibri\, sans-serif\; color: rgb(36\, 36\, 36)\;"><span style="border: 0px\; font-style: inherit\; font-variant: inherit\; font-weight: inherit\; font-stretch: inherit\; font-size: inherit\; line-height: inherit\; font-family: Tahoma\, sans-serif\, serif\, EmojiFont\; font-optical-sizing: inherit\; font-kerning: inherit\; font-feature-settings: inherit\; font-variation-settings: inherit\; margin: 0px\; padding: 0px\; vertical-align: baseline\; color: inherit\;">All proceeds benefit the SRGC&rsquo\;s Secondary Education Scholarship.&nbsp\;</span></p>\n\n<p class="x_MsoNormal" style="margin: 0in\; font-size: 11pt\; font-family: Calibri\, sans-serif\; color: rgb(36\, 36\, 36)\;"><span style="border: 0px\; font-style: inherit\; font-variant: inherit\; font-weight: inherit\; font-stretch: inherit\; font-size: inherit\; line-height: inherit\; font-family: Tahoma\, sans-serif\, serif\, EmojiFont\; font-optical-sizing: inherit\; font-kerning: inherit\; font-feature-settings: inherit\; font-variation-settings: inherit\; margin: 0px\; padding: 0px\; vertical-align: baseline\; color: inherit\;">&nbsp\;</span></p>\n\n<p class="x_MsoNormal" style="margin: 0in\; font-size: 11pt\; font-family: Calibri\, sans-serif\; color: rgb(36\, 36\, 36)\;"><span style="border: 0px\; font-style: inherit\; font-variant: inherit\; font-weight: inherit\; font-stretch: inherit\; font-size: inherit\; line-height: inherit\; font-family: Tahoma\, sans-serif\, serif\, EmojiFont\; font-optical-sizing: inherit\; font-kerning: inherit\; font-feature-settings: inherit\; font-variation-settings: inherit\; margin: 0px\; padding: 0px\; vertical-align: baseline\; color: inherit\;">Contact&nbsp\;<a data-linkindex="0" href="mailto:spoonrivergardenclub@gmail.com" id="LPlnk803852" style="border: 0px\; font: inherit\; margin: 0px\; padding: 0px\; vertical-align: baseline\; color: rgb(5\, 99\, 193)\;">spoonrivergardenclub@gmail.com</a>&nbsp\;with questions.&nbsp\;</span></p>\n\n<p aria-hidden="true" class="x_MsoNormal" style="margin: 0in\; font-size: 11pt\; font-family: Calibri\, sans-serif\; color: rgb(36\, 36\, 36)\;">&nbsp\;</p>\n\n<p aria-hidden="true" class="x_MsoNormal" style="margin: 0in\; font-size: 11pt\; font-family: Calibri\, sans-serif\; color: rgb(36\, 36\, 36)\;">&nbsp\;</p>\n
LOCATION:
UID:e.1688.8264
SEQUENCE:3
DTSTAMP:20260419T212756Z
URL:https://cantondirectory.csmdemo.com/events/details/garden-walk-2024-8264
END:VEVENT

END:VCALENDAR
