BEGIN:VCALENDAR
VERSION:2.0
PRODID:-//ChamberMaster//Event Calendar 2.0//EN
METHOD:PUBLISH
X-PUBLISHED-TTL:P3D
REFRESH-INTERVAL:P3D
CALSCALE:GREGORIAN
BEGIN:VEVENT
DTSTART;VALUE=DATE:20211015
DTEND;VALUE=DATE:20211016
TRANSP:TRANSPARENT
X-MICROSOFT-CDO-ALLDAYEVENT:TRUE
SUMMARY:Health & Wellness Connection of Fulton County Fundraiser
DESCRIPTION:There will be a buffet meal along with a comedy group from the Quad Cities (they include audience participation!).
X-ALT-DESC;FMTTYPE=text/html:<div style="margin: 0px\; padding: 0px\; border: 0px\; font-variant-numeric: inherit\; font-variant-east-asian: inherit\; font-stretch: inherit\; font-size: small\; line-height: inherit\; font-family: &quot\;comic sans ms&quot\;\, sans-serif\; vertical-align: baseline\; color: rgb(50\, 49\, 48)\;"><span style="color: rgb(51\, 51\, 51)\; font-family: sans-serif\, Arial\, Verdana\, &quot\;Trebuchet MS&quot\;\; font-size: 13px\;">There will be a buffet meal along with a comedy group from the Quad Cities (they include audience participation!).</span></div>\n
LOCATION:The Venue 23 W. Pine Street Canton\, IL 61520
UID:e.1688.7578
SEQUENCE:3
DTSTAMP:20260422T075551Z
URL:https://cantondirectory.csmdemo.com/events/details/health-wellness-connection-of-fulton-county-fundraiser-7578
END:VEVENT

END:VCALENDAR
