BEGIN:VCALENDAR
VERSION:2.0
PRODID:-//ChamberMaster//Event Calendar 2.0//EN
METHOD:PUBLISH
X-PUBLISHED-TTL:P3D
REFRESH-INTERVAL:P3D
CALSCALE:GREGORIAN
BEGIN:VEVENT
DTSTART:20210828T230000Z
DTEND:20210829T000000Z
X-MICROSOFT-CDO-ALLDAYEVENT:FALSE
SUMMARY:Jesus In the Park
DESCRIPTION:Jesus In the Park is open to the public. Everyone is welcomed to come out and listen to a worship band sing praise songs to lift up Jesus' name. Bring a lawn chair and join us! This event is brought to you by International Living Waters ministries.  \n\nFeatured Band: Big Perk Worship Rapper
X-ALT-DESC;FMTTYPE=text/html:Jesus In the Park is open to the public. Everyone is welcomed to come out and listen to a worship band sing praise songs to lift up Jesus&#39\; name. Bring a lawn chair and join us! This event is brought to you by International Living Waters ministries.&nbsp\;&nbsp\;<br />\nFeatured Band: Big Perk Worship Rapper
LOCATION:Jones Park in Downtown Canton
UID:e.1688.7607
SEQUENCE:3
DTSTAMP:20260422T115101Z
URL:https://cantondirectory.csmdemo.com/events/details/jesus-in-the-park-7607
END:VEVENT

END:VCALENDAR
