BEGIN:VCALENDAR
VERSION:2.0
PRODID:-//ChamberMaster//Event Calendar 2.0//EN
METHOD:PUBLISH
X-PUBLISHED-TTL:P3D
REFRESH-INTERVAL:P3D
CALSCALE:GREGORIAN
BEGIN:VEVENT
DTSTART:20230702T190000Z
DTEND:20230702T210000Z
X-MICROSOFT-CDO-ALLDAYEVENT:FALSE
SUMMARY:Jim Morgan's 80th Birthday Celebration!
DESCRIPTION:Long time resident of Canton\, Jim Morgan is turning 80 and his family is planning a celebration on Sunday\, July 2nd from 2 to 4 pm at the Wesley Hall.
X-ALT-DESC;FMTTYPE=text/html:Long time resident of Canton\, Jim Morgan is turning 80 and his family is planning a celebration on Sunday\, July 2nd from 2 to 4 pm at the Wesley Hall.
LOCATION:Wesley Hall 60 N. Avenue A in Canton
UID:e.1688.7955
SEQUENCE:3
DTSTAMP:20260420T202944Z
URL:https://cantondirectory.csmdemo.com/events/details/jim-morgan-s-80th-birthday-celebration-7955
END:VEVENT

END:VCALENDAR
